BEGIN:VCALENDAR
VERSION:2.0
PRODID:-//CCÉAE - ECPv6.15.15//NONSGML v1.0//EN
CALSCALE:GREGORIAN
METHOD:PUBLISH
X-WR-CALNAME:CCÉAE
X-ORIGINAL-URL:https://cceae.umontreal.ca
X-WR-CALDESC:Événements pour CCÉAE
REFRESH-INTERVAL;VALUE=DURATION:PT1H
X-Robots-Tag:noindex
X-PUBLISHED-TTL:PT1H
BEGIN:VTIMEZONE
TZID:America/New_York
BEGIN:DAYLIGHT
TZOFFSETFROM:-0500
TZOFFSETTO:-0400
TZNAME:EDT
DTSTART:20230312T070000
END:DAYLIGHT
BEGIN:STANDARD
TZOFFSETFROM:-0400
TZOFFSETTO:-0500
TZNAME:EST
DTSTART:20231105T060000
END:STANDARD
BEGIN:DAYLIGHT
TZOFFSETFROM:-0500
TZOFFSETTO:-0400
TZNAME:EDT
DTSTART:20240310T070000
END:DAYLIGHT
BEGIN:STANDARD
TZOFFSETFROM:-0400
TZOFFSETTO:-0500
TZNAME:EST
DTSTART:20241103T060000
END:STANDARD
BEGIN:DAYLIGHT
TZOFFSETFROM:-0500
TZOFFSETTO:-0400
TZNAME:EDT
DTSTART:20250309T070000
END:DAYLIGHT
BEGIN:STANDARD
TZOFFSETFROM:-0400
TZOFFSETTO:-0500
TZNAME:EST
DTSTART:20251102T060000
END:STANDARD
END:VTIMEZONE
BEGIN:VEVENT
DTSTART;TZID=America/New_York:20240116T160000
DTEND;TZID=America/New_York:20240116T190000
DTSTAMP:20260424T063802
CREATED:20240115T142407Z
LAST-MODIFIED:20240115T143419Z
UID:4370-1705420800-1705431600@cceae.umontreal.ca
SUMMARY:Face aux archives des camps - H. Farocki\, En Sursis (2007) et autres extraits
DESCRIPTION:Dans le cadre du cycle projections-débats « Politiques du film d’archives II : Face à la violence de l’Histoire – Hommage à Harun Farocki (1944-2014) » organisé par Rémy Besson (CRIalt) et Philippe Despoix avec la collaboration de Regine Strätling (CCÉAE) \nCe cycle de projections offre un forum de recherche et de discussion sur les gestes posés par les documentaristes travaillant à partir d’archives et sur leurs effets politiques explicites ou non. Il met en relief l’intérêt d’une approche intermédiale qui relie la question du choix du matériau d’archives (photo\, film muet\, vidéo\, numérique) au mode de son traitement impliquant des transferts de technique\, ainsi qu’aux formes de mémoire sociale que la diffusion de ces productions contribuent à créer. Le cycle de ce trimestre est entièrement consacré au documentariste Harun Farocki disparu il y a dix ans. \nCe cycle se poursuit par deux journées internationales d’hommage à Harun Farocki (21-22 mars 2024)\, Carrefour des arts et des sciences et CCEAE (UdeM) et cinq projections à la Cinémathèque québécoises\, qui seront consacrées à ce cinéaste (du 15 mars au 22 mars).
URL:https://cceae.umontreal.ca/evenement/politiques-du-film-darchives-ii-face-a-la-violence-de-lhistoire-hommage-a-harun-farocki-1944-2014/
LOCATION:Pavillon Lionel-Groulx\, salle C-1017-02\, 3150 rue Jean-Brillant\, Montreal\, H3T 1N8
END:VEVENT
END:VCALENDAR